BEGIN:VCALENDAR
VERSION:2.0
PRODID:-//Sunset Ridge - ECPv6.15.20//NONSGML v1.0//EN
CALSCALE:GREGORIAN
METHOD:PUBLISH
X-WR-CALNAME:Sunset Ridge
X-ORIGINAL-URL:https://sunsetridgeme.com
X-WR-CALDESC:Events for Sunset Ridge
REFRESH-INTERVAL;VALUE=DURATION:PT1H
X-Robots-Tag:noindex
X-PUBLISHED-TTL:PT1H
BEGIN:VTIMEZONE
TZID:America/Toronto
BEGIN:DAYLIGHT
TZOFFSETFROM:-0500
TZOFFSETTO:-0400
TZNAME:EDT
DTSTART:20240310T070000
END:DAYLIGHT
BEGIN:STANDARD
TZOFFSETFROM:-0400
TZOFFSETTO:-0500
TZNAME:EST
DTSTART:20241103T060000
END:STANDARD
BEGIN:DAYLIGHT
TZOFFSETFROM:-0500
TZOFFSETTO:-0400
TZNAME:EDT
DTSTART:20250309T070000
END:DAYLIGHT
BEGIN:STANDARD
TZOFFSETFROM:-0400
TZOFFSETTO:-0500
TZNAME:EST
DTSTART:20251102T060000
END:STANDARD
BEGIN:DAYLIGHT
TZOFFSETFROM:-0500
TZOFFSETTO:-0400
TZNAME:EDT
DTSTART:20260308T070000
END:DAYLIGHT
BEGIN:STANDARD
TZOFFSETFROM:-0400
TZOFFSETTO:-0500
TZNAME:EST
DTSTART:20261101T060000
END:STANDARD
BEGIN:DAYLIGHT
TZOFFSETFROM:-0500
TZOFFSETTO:-0400
TZNAME:EDT
DTSTART:20270314T070000
END:DAYLIGHT
BEGIN:STANDARD
TZOFFSETFROM:-0400
TZOFFSETTO:-0500
TZNAME:EST
DTSTART:20271107T060000
END:STANDARD
END:VTIMEZONE
BEGIN:VEVENT
DTSTART;VALUE=DATE:20250721
DTEND;VALUE=DATE:20250728
DTSTAMP:20260421T044241
CREATED:20250702T125940Z
LAST-MODIFIED:20250702T125940Z
UID:10000263-1753056000-1753660799@sunsetridgeme.com
SUMMARY:2025 Ridge Cup
DESCRIPTION:Join us at Sunset Ridge for our Ridge Cup Tournament\n  \nWhen: Week of July 22nd\nEntry Fee: $20\nMust have GHIN handicap\n  \nThe Ridge Cup\nJoin us at Sunset Ridge for our Ridge Cup Tournament!\n18 match play using handicap\nMens only tournament\nFull members only\, must be in good standing\nWhen: Week of July 22nd\nEntry Fee: $20\nMust have GHIN handicap
URL:https://sunsetridgeme.com/event/2025-ridge-cup/
END:VEVENT
BEGIN:VEVENT
DTSTART;VALUE=DATE:20250728
DTEND;VALUE=DATE:20250802
DTSTAMP:20260421T044241
CREATED:20250715T192329Z
LAST-MODIFIED:20250715T192329Z
UID:10000264-1753660800-1754092799@sunsetridgeme.com
SUMMARY:Men's and Women's Championship
DESCRIPTION:Men’s & Women’s Club Championship\n\n\nMatches will begin the week of July 28th.\nClub Championships are open to members in good standing.\n$20 per person\n\nMatch Play\nNo Handicap\n18 holes per match\nSingle elimination\nAllowing 16 players in each division to sign up.\n\nTo register\, swing by the Pro Shop or call (207) 854-9463 no later than Sunday July 25\, 2025.
URL:https://sunsetridgeme.com/event/mens-and-womens-championship/
END:VEVENT
BEGIN:VEVENT
DTSTART;TZID=America/Toronto:20251005T100000
DTEND;TZID=America/Toronto:20251005T100000
DTSTAMP:20260421T044241
CREATED:20250915T131602Z
LAST-MODIFIED:20250915T131602Z
UID:10000265-1759658400-1759658400@sunsetridgeme.com
SUMMARY:2025 Bonfire Scramble
DESCRIPTION:Join us for the Bonfire Scramble!\nSunday\, October 5th\n10:00am Shotgun\n18 Hole Scramble\nNo handicap (Sunset Ridge will deem whether a team is “fair”)\nBuffet food included\nSign up as a team (foursomes)\n$60 non member | $40 member\nSign up in Pro Shop or Call (207) 854-9463 for more details
URL:https://sunsetridgeme.com/event/2025-bonfire-scramble/
END:VEVENT
BEGIN:VEVENT
DTSTART;TZID=America/Toronto:20251102T103000
DTEND;TZID=America/Toronto:20251102T103000
DTSTAMP:20260421T044241
CREATED:20251008T131843Z
LAST-MODIFIED:20251008T131843Z
UID:10000266-1762079400-1762079400@sunsetridgeme.com
SUMMARY:2025 Gobbler Strut
DESCRIPTION:Join us for the Gobbler Strut!\nSunday\, November 2nd\n10:30am Shotgun\n18 Hole Scramble\nSign up as a team (foursomes)\nNo handicap (Sunset Ridge will deem whether a team is “fair”)\nRates\n$60 | Non-Members\n$40 | Members\nMeal included\nSign up in Pro Shop or Call (207) 854-9463 for more details
URL:https://sunsetridgeme.com/event/2025-gobbler-strut/
END:VEVENT
BEGIN:VEVENT
DTSTART;VALUE=DATE:20251117
DTEND;VALUE=DATE:20251202
DTSTAMP:20260421T044241
CREATED:20251117T162406Z
LAST-MODIFIED:20251117T162406Z
UID:10000268-1763337600-1764633599@sunsetridgeme.com
SUMMARY:Tis the season for some savings!
DESCRIPTION:It’s the moment you’ve been waiting for – Black Friday is here\, and we’re thrilled to unveil our spectacular golfing offers at Sunset Ridge.\nWe’re kicking off our Black Friday sale a little early and extending it for a whole week! From now until 12/1 you can save big on golf for the next season.\nTHE DEALS\nGet a $100 gift card for $80!\n\nThis is the perfect opportunity to treat yourself or surprise a fellow golfer with the gift of choice.\nNew members- get a discount on the indoor simulators all winter long…and play all next year…\n\nAre you new to our golfing community? We’ve got a special offer just for you. Enjoy discounted rates on our indoor simulators all winter long\, and secure your place to play throughout the upcoming year.\nOur prices are increasing in 2026 so make sure you lock in the 2025 rates NOW!\nIf you purchase your 2026 membership now you can save big!\n\nFrom now until December 1st you can get 2 dozen Callaway golf balls for only $99!\n\nAll gloves are 20% off!\nAll apparel are 30% off!\nDon’t miss out on these incredible offers\, designed to make your golfing experience even more memorable.\nStop by our pro shop or shop online!
URL:https://sunsetridgeme.com/event/tis-the-season-for-some-savings/
END:VEVENT
BEGIN:VEVENT
DTSTART;TZID=America/Toronto:20251122T103000
DTEND;TZID=America/Toronto:20251122T103000
DTSTAMP:20260421T044241
CREATED:20251106T143227Z
LAST-MODIFIED:20251106T143227Z
UID:10000267-1763807400-1763807400@sunsetridgeme.com
SUMMARY:Frost Delay Tournament
DESCRIPTION:Get ready for some frosty fun on the fairways!\nWe’re turning up the heat this November with our “Frost Delay” Tournament\, a fun-filled day on the greens where members and non-members alike can compete for some serious bragging rights.\n\n\nHere’s the scoop\n When: Saturday\, November 22nd\n⏰ Start Time: 10:30 AM\n⛳️ Format: 9-Hole Tourney (Foursomes)\n Entry Fee: $30 for non-members | $20 for members\n\nThis isn’t just any tournament—it’s winner-takes-all on each 9! That means only 2 winners will come out on top\, each walking away with the pot from the day. So grab your best golf buddies\, form a foursome\, and get ready to win big!\nThis is a chance for you to show off your skills\, embrace the fun\, and hopefully take home the jackpot. Spots are filling up\, so don’t wait to secure your foursome!\nCall or stop by the pro shop to secure your spot!
URL:https://sunsetridgeme.com/event/frost-delay-tournament-2/
END:VEVENT
BEGIN:VEVENT
DTSTART;VALUE=DATE:20251209
DTEND;VALUE=DATE:20251210
DTSTAMP:20260421T044241
CREATED:20251125T151443Z
LAST-MODIFIED:20251125T151443Z
UID:10000269-1765238400-1765324799@sunsetridgeme.com
SUMMARY:Tuesday Trivia
DESCRIPTION:Join us on December 9th for trivia!\n  \nMake your weekday something to look forward to with trivia at your favorite golf course. Trivia starts at 6pm and we’ll also have drink and taco specials to load up with!\nTest your brains and friendships with a friendly competition.\n  \nWe look forward to seeing you here!
URL:https://sunsetridgeme.com/event/tuesday-trivia/
END:VEVENT
BEGIN:VEVENT
DTSTART;VALUE=DATE:20260208
DTEND;VALUE=DATE:20260209
DTSTAMP:20260421T044241
CREATED:20260126T185046Z
LAST-MODIFIED:20260126T185046Z
UID:10000271-1770508800-1770595199@sunsetridgeme.com
SUMMARY:The Big Game
DESCRIPTION:It’s the 60th annual NFL football championship!\nStop by Sunset Ridge Golf Links for a great game and an even better time. Pregame with our tasty drink specials\, then settle in to watch all the action while enjoying our delicious food specials made for game day.\nWith big screens\, great company\, and a lively atmosphere\, there’s no better place to catch every touchdown\, commercial\, and halftime moment.\nGrab your friends and family and make a day of it — we can’t wait to celebrate the big game with you at Sunset Ridge!
URL:https://sunsetridgeme.com/event/the-big-game/
END:VEVENT
BEGIN:VEVENT
DTSTART;TZID=America/Toronto:20260224T130000
DTEND;TZID=America/Toronto:20260224T170000
DTSTAMP:20260421T044241
CREATED:20260112T140421Z
LAST-MODIFIED:20260112T140421Z
UID:10000270-1771938000-1771952400@sunsetridgeme.com
SUMMARY:2026 Callaway Fitting
DESCRIPTION:Maximize your golfing prowess at Sunset Ridge Golf Links at our Callaway club fitting. Unleash your full potential on the green with meticulously crafted equipment\, fine-tuned to elevate your swing and amplify your performance.\nBook your appointment here!
URL:https://sunsetridgeme.com/event/2026-callaway-fitting/
END:VEVENT
BEGIN:VEVENT
DTSTART;VALUE=DATE:20260404
DTEND;VALUE=DATE:20260405
DTSTAMP:20260421T044241
CREATED:20260401T150319Z
LAST-MODIFIED:20260401T150319Z
UID:10000272-1775260800-1775347199@sunsetridgeme.com
SUMMARY:Opening Day
DESCRIPTION:Golf is back at Sunset Ridge!\nWe are excited to open our doors again for the 2026 season. Join us on April 4th for the first rounds of golf of the season (walking only).\n  \nWe look forward to seeing you there!
URL:https://sunsetridgeme.com/event/opening-day-2/
END:VEVENT
END:VCALENDAR